BEGIN:VCALENDAR
VERSION:2.0
PRODID:-//Walters Honey - ECPv5.0.2.1//NONSGML v1.0//EN
CALSCALE:GREGORIAN
METHOD:PUBLISH
X-WR-CALNAME:Walters Honey
X-ORIGINAL-URL:https://blog.waltershoney.com
X-WR-CALDESC:Events for Walters Honey
BEGIN:VTIMEZONE
TZID:America/Indiana/Indianapolis
BEGIN:DAYLIGHT
TZOFFSETFROM:-0500
TZOFFSETTO:-0400
TZNAME:EDT
DTSTART:20180311T070000
END:DAYLIGHT
BEGIN:STANDARD
TZOFFSETFROM:-0400
TZOFFSETTO:-0500
TZNAME:EST
DTSTART:20181104T060000
END:STANDARD
END:VTIMEZONE
BEGIN:VEVENT
DTSTART;TZID=America/Indiana/Indianapolis:20181013T100000
DTEND;TZID=America/Indiana/Indianapolis:20181013T160000
DTSTAMP:20260424T190615
CREATED:20181112T015503Z
LAST-MODIFIED:20181112T015630Z
UID:659-1539424800-1539446400@blog.waltershoney.com
SUMMARY:Brown County Handmade Market 2018
DESCRIPTION:
URL:https://blog.waltershoney.com/event/brown-county-handmade-market-2018/
LOCATION:Parkview Church\, 1750 State Road 46\, Nashville\, IN\, 47448\, United States
ATTACH;FMTTYPE=image/jpeg:https://blog.waltershoney.com/wp-content/uploads/2018/09/42208860_10214825365619188_6213815966384521216_o.jpg
END:VEVENT
END:VCALENDAR