BEGIN:VCALENDAR
VERSION:2.0
PRODID:-//Walters Honey - ECPv5.0.2.1//NONSGML v1.0//EN
CALSCALE:GREGORIAN
METHOD:PUBLISH
X-WR-CALNAME:Walters Honey
X-ORIGINAL-URL:https://blog.waltershoney.com
X-WR-CALDESC:Events for Walters Honey
BEGIN:VTIMEZONE
TZID:America/Indiana/Indianapolis
BEGIN:DAYLIGHT
TZOFFSETFROM:-0500
TZOFFSETTO:-0400
TZNAME:EDT
DTSTART:20190310T070000
END:DAYLIGHT
BEGIN:STANDARD
TZOFFSETFROM:-0400
TZOFFSETTO:-0500
TZNAME:EST
DTSTART:20191103T060000
END:STANDARD
END:VTIMEZONE
BEGIN:VEVENT
DTSTART;TZID=America/Indiana/Indianapolis:20190504T090000
DTEND;TZID=America/Indiana/Indianapolis:20190504T160000
DTSTAMP:20260424T191304
CREATED:20190104T171123Z
LAST-MODIFIED:20190104T171806Z
UID:701-1556960400-1556985600@blog.waltershoney.com
SUMMARY:Crafty Saturday in Shelby County
DESCRIPTION:70%Crafters/Artisans    30% Direct sales \nlocated in three buildings and outside \nfood vendors \nentertainment/exhibitions \nbloodmobile \ndoor prize drawings throughout the day \nShelby County Fairgrounds   500 Frank St   Shelbyville \n
URL:https://blog.waltershoney.com/event/crafty-saturday-in-shelby-county/
LOCATION:Shelby County Fairgrounds\, 500 Frank St\, Shelbyville\, IN\, United States
END:VEVENT
END:VCALENDAR