BEGIN:VCALENDAR
VERSION:2.0
PRODID:-//Walters Honey - ECPv5.0.2.1//NONSGML v1.0//EN
CALSCALE:GREGORIAN
METHOD:PUBLISH
X-WR-CALNAME:Walters Honey
X-ORIGINAL-URL:https://blog.waltershoney.com
X-WR-CALDESC:Events for Walters Honey
BEGIN:VTIMEZONE
TZID:America/Indiana/Indianapolis
BEGIN:DAYLIGHT
TZOFFSETFROM:-0500
TZOFFSETTO:-0400
TZNAME:EDT
DTSTART:20180311T070000
END:DAYLIGHT
BEGIN:STANDARD
TZOFFSETFROM:-0400
TZOFFSETTO:-0500
TZNAME:EST
DTSTART:20181104T060000
END:STANDARD
END:VTIMEZONE
BEGIN:VEVENT
DTSTART;TZID=America/Indiana/Indianapolis:20181208T170000
DTEND;TZID=America/Indiana/Indianapolis:20181208T210000
DTSTAMP:20260424T190727
CREATED:20181112T014828Z
LAST-MODIFIED:20181112T023955Z
UID:656-1544288400-1544302800@blog.waltershoney.com
SUMMARY:Holiday of Lights Market 2018
DESCRIPTION:Holiday of Lights Market \nUnique Gifts\, Handmade Boutique Items \n
URL:https://blog.waltershoney.com/event/holiday-of-lights-market-2018/
LOCATION:Downtown Edinburgh\, 110 E Main Cross St\, Edinburgh\, Indiana\, 46124\, United States
ATTACH;FMTTYPE=image/png:https://blog.waltershoney.com/wp-content/uploads/2018/11/6006.png
END:VEVENT
END:VCALENDAR